<?xml version="1.0" encoding="utf-8"?>
	<TileMap version="1.0.0" tilemapservice="http://tms.osgeo.org/1.0.0">
	  <Title>KaninTopoMap</Title>
	  <Abstract></Abstract>
	  <SRS>EPSG:900913</SRS>
	  <BoundingBox minx="46.31243193888574" miny="13.43556584644359" maxx="46.36743523864129" maxy="13.51497277378470"/>
	  <Origin x="46.31243193888574" y="13.43556584644359"/>
	  <TileFormat width="256" height="256" mime-type="image/jpeg" extension="jpg"/>
	  <TileSets profile="mercator">
	    <TileSet href="15" units-per-pixel="4.77731426696777" order="15"/>
	    <TileSet href="16" units-per-pixel="2.38865713348389" order="16"/>
	    <TileSet href="17" units-per-pixel="1.19432856674194" order="17"/>
	  </TileSets>
	</TileMap>
